BEGIN:VCALENDAR
VERSION:2.0
PRODID:-//https://www.bibliotecabaratta.it///NONSGML kigkonsult.se iCalcreator 2.10.15//
METHOD:PUBLISH
BEGIN:VEVENT
UID:20260422T131001CEST-4100jiSKwV@https://www.bibliotecabaratta.it/
DTSTAMP:20260422T111001Z
DESCRIPTION:Conversazioni a tema in lingua inglese per ragazze e ragazzi da
 gli 11 ai 14 anni.\nPrimo incontro dal tema: Discovering Hogwarts with Pin
 gu's English: a trip to the wizarding world of Harry Potter!\n&nbsp\;\nPer
  partecipare è necessaria la prenotazione a barattapiu@comune.mantova.it&n
 bsp\;/ 0376-352732 https://www.bibliotecabaratta.it/index.php/it/attivita/
 bambini-e-ragazzi/Eventi/2237-conservazioni-a-tema-in-inglese-11-14-anni
DTSTART:20230130T173000Z
DTEND:20230130T180000Z
LOCATION:Sala 'Peppino Impastato' (Corso Garibaldi 88 Mantova)
SUMMARY:Conservazioni a tema in inglese 11-14 anni
URL:https://www.bibliotecabaratta.it/index.php/it/attivita/bambini-e-ragazz
 i/Eventi/2237-conservazioni-a-tema-in-inglese-11-14-anni
END:VEVENT
END:VCALENDAR
