BEGIN:VCALENDAR
VERSION:2.0
PRODID:-//https://www.bibliotecabaratta.it///NONSGML kigkonsult.se iCalcreator 2.10.15//
METHOD:PUBLISH
BEGIN:VEVENT
UID:20260422T101039CEST-8875bIuzns@https://www.bibliotecabaratta.it/
DTSTAMP:20260422T081039Z
DESCRIPTION:Conversazioni a tema in lingua inglese per ragazze e ragazzi da
 gli 11 ai 14 anni.\nPrimo incontro dal tema: Goosebumps! Join us and disco
 ver creepy creatures howling and growling... are you scared?\n&nbsp\;\nPer
  partecipare è necessaria la prenotazione a barattapiu@comune.mantova.it&n
 bsp\; https://www.bibliotecabaratta.it/index.php/it/attivita/bambini-e-rag
 azzi/Eventi/2238-conservazioni-a-tema-in-inglese-11-14-anni
DTSTART:20230327T173000Z
DTEND:20230327T180000Z
LOCATION:Sala 'Peppino Impastato' (Corso Garibaldi 88 Mantova)
SUMMARY:Conservazioni a tema in inglese 11-14 anni
URL:https://www.bibliotecabaratta.it/index.php/it/attivita/bambini-e-ragazz
 i/Eventi/2238-conservazioni-a-tema-in-inglese-11-14-anni
END:VEVENT
END:VCALENDAR
