BEGIN:VCALENDAR
VERSION:2.0
PRODID:-//https://www.bibliotecabaratta.it///NONSGML kigkonsult.se iCalcreator 2.10.15//
METHOD:PUBLISH
BEGIN:VEVENT
UID:20260424T155627CEST-6162f3KZia@https://www.bibliotecabaratta.it/
DTSTAMP:20260424T135627Z
DESCRIPTION:Possibilità di giocare agli scacchi aperta a tutta la cittadina
 nza\, a cura di ASD Mantova Scacchi. https://www.bibliotecabaratta.it/inde
 x.php/it/attivita/bambini-e-ragazzi/Eventi/2694-scacchi-al-baratta
DTSTART:20240310T100000Z
DTEND:20240310T123000Z
LOCATION:Sala Emeroteca (Corso Garibaldi 88\, 46100 Mantova)
SUMMARY:Scacchi al Baratta
URL:https://www.bibliotecabaratta.it/index.php/it/attivita/bambini-e-ragazz
 i/Eventi/2694-scacchi-al-baratta
END:VEVENT
END:VCALENDAR
