BEGIN:VCALENDAR
VERSION:2.0
PRODID:-//https://www.bibliotecabaratta.it///NONSGML kigkonsult.se iCalcreator 2.10.15//
METHOD:PUBLISH
BEGIN:VEVENT
UID:20260425T174509CEST-3632Bticc7@https://www.bibliotecabaratta.it/
DTSTAMP:20260425T154509Z
DESCRIPTION:Le domeniche mattina ritornano gli appuntamenti con 'Giochi in 
 Biblioteca. Attività ludiche per tutta la famiglia'\ndalle 10.00 alle 12.0
 0 in Sala Colonne vi aspettano&nbsp\;SCACCHI AL BARATTA: il gioco degli sc
 acchi&nbsp\;per adulti e bambini a cura di ASD Mantova Scacchi.\n&nbsp\;\n
 Accesso libero e gratuito senza prenotazione.&nbsp\;Informazioni: barattap
 iu@comune.mantova.it&nbsp\;/0376-352732 https://www.bibliotecabaratta.it/i
 ndex.php/it/attivita/Eventi/2038-scacchi-al-baratta
DTSTART:20221002T100000Z
DTEND:20221002T120000Z
LOCATION:Sala 'Peppino Impastato' (Corso Garibaldi 88 Mantova)
SUMMARY:Scacchi al Baratta
URL:https://www.bibliotecabaratta.it/index.php/it/attivita/Eventi/2038-scac
 chi-al-baratta
END:VEVENT
END:VCALENDAR
