BEGIN:VCALENDAR
VERSION:2.0
PRODID:-//https://www.bibliotecabaratta.it///NONSGML kigkonsult.se iCalcreator 2.10.15//
METHOD:PUBLISH
BEGIN:VEVENT
UID:20260424T092653CEST-3593eU8BWa@https://www.bibliotecabaratta.it/
DTSTAMP:20260424T072653Z
DESCRIPTION:Incontro mensile del Gruppo di Lettura Liberi di Leggere a cura
  di Silvia Andreoli.\nTema dell'incontro: La complessità\nLibri del mese:
 \nJosé Luis Peixoto\, Libro\nEdgar Morin\, Sette lezioni sul pensiero glob
 ale\nChris Ware\, Il palazzo della memoria\nChris Ware\, Building stories 
 https://www.bibliotecabaratta.it/index.php/it/attivita/gruppi-di-lettura/E
 venti/2890-gdl-liberi-di-leggere-la-complessita
DTSTART:20250515T173000Z
DTEND:20250515T190000Z
LOCATION:Palazzo d'Arco (Piazza Carlo D'Arco 4 Mantova)
SUMMARY:GDL Liberi di Leggere_La complessità
URL:https://www.bibliotecabaratta.it/index.php/it/attivita/gruppi-di-lettur
 a/Eventi/2890-gdl-liberi-di-leggere-la-complessita
END:VEVENT
END:VCALENDAR
