BEGIN:VCALENDAR
VERSION:2.0
PRODID:-//https://www.bibliotecabaratta.it///NONSGML kigkonsult.se iCalcreator 2.10.15//
METHOD:PUBLISH
BEGIN:VEVENT
UID:20260419T172759CEST-3491trubTD@https://www.bibliotecabaratta.it/
DTSTAMP:20260419T152759Z
DESCRIPTION:Appuntamento settimanale ogni domenica mattina dalle 10:00 alle
  12:30 con tanti giochi in scatola per tutte le età in compagnia dei volon
 tari di Associazione Amici Ludici.\nAccesso libero e gratuito. https://www
 .bibliotecabaratta.it/index.php/it/eventi-footer/Eventi/2242-al-baratta-si
 -gioca-con-ass-amici-ludici
DTSTART:20230507T100000Z
DTEND:20230507T123000Z
LOCATION:Sala Lettura (Corso Garibaldi 88 Mantova)
SUMMARY:Al Baratta si gioca! con Ass. Amici Ludici
URL:https://www.bibliotecabaratta.it/index.php/it/eventi-footer/Eventi/2242
 -al-baratta-si-gioca-con-ass-amici-ludici
END:VEVENT
END:VCALENDAR
