BEGIN:VCALENDAR
VERSION:2.0
PRODID:-//https://www.bibliotecabaratta.it///NONSGML kigkonsult.se iCalcreator 2.10.15//
METHOD:PUBLISH
BEGIN:VEVENT
UID:20260419T160011CEST-83256k69vh@https://www.bibliotecabaratta.it/
DTSTAMP:20260419T140011Z
DESCRIPTION:Secondo modulo dei laboratori espressivi con tecniche di artete
 rapia rivolto a bambine e bambini della scuola primaria a cura di Erica Ne
 grelli.\nLocandina evento:&nbsp\; ARTETERAPIA BARATTA 2023\n&nbsp\;\nIscri
 zione obbligatoria a barattapiu@comune.mantova.it&nbsp\; https://www.bibli
 otecabaratta.it/index.php/it/eventi-footer/Eventi/2356-arteterapia-con-eri
 ca-negrelli-secondo-modulo-la-biblioteca-che-vorrei-laboratorio-per-bambin
 i-e-6-10-anni
DTSTART:20230605T173000Z
DTEND:20230605T190000Z
LOCATION:Sala 'Peppino Impastato' (Corso Garibaldi 88 Mantova)
SUMMARY:Arteterapia con Erica Negrelli - Secondo modulo 'La biblioteca che 
 vorrei' - laboratorio per bambini/e 6-10 anni
URL:https://www.bibliotecabaratta.it/index.php/it/eventi-footer/Eventi/2356
 -arteterapia-con-erica-negrelli-secondo-modulo-la-biblioteca-che-vorrei-la
 boratorio-per-bambini-e-6-10-anni
END:VEVENT
END:VCALENDAR
