BEGIN:VCALENDAR
VERSION:2.0
PRODID:-//https://www.bibliotecabaratta.it///NONSGML kigkonsult.se iCalcreator 2.10.15//
METHOD:PUBLISH
BEGIN:VEVENT
UID:20260419T173030CEST-6194G5vHnh@https://www.bibliotecabaratta.it/
DTSTAMP:20260419T153030Z
DESCRIPTION:Lettura ad alta voce per bambini dai 3 anni.\nLa partecipazione
  all'evento è gratuita\, ma i posti sono limitati. Pertanto\, l'iscrizione
  è obbligatoria:&nbsp\;barattapiu@comune.mantova.it&nbsp\; https://www.bib
 liotecabaratta.it/index.php/it/eventi-footer/Eventi/2393-fiabe-di-stagione
 -storia-di-autunno
DTSTART:20230919T180000Z
DTEND:20230919T190000Z
LOCATION:Giardino della Biblioteca (Corso Giuseppe Garibaldi\, 88\, 46100 M
 antova (MN) )
SUMMARY:FIABE DI STAGIONE: STORIA DI AUTUNNO
URL:https://www.bibliotecabaratta.it/index.php/it/eventi-footer/Eventi/2393
 -fiabe-di-stagione-storia-di-autunno
END:VEVENT
END:VCALENDAR
