BEGIN:VCALENDAR
VERSION:2.0
PRODID:-//https://www.bibliotecabaratta.it///NONSGML kigkonsult.se iCalcreator 2.10.15//
METHOD:PUBLISH
BEGIN:VEVENT
UID:20260419T172105CEST-4186VrFRgG@https://www.bibliotecabaratta.it/
DTSTAMP:20260419T152105Z
DESCRIPTION:Conversazione in lingua inglese per ragazze/i dagli 11 ai 14 an
 ni in collaborazione con Pingu’s English.\nIscrizione obbligatoria a barat
 tapiu@comune.mantova.it https://www.bibliotecabaratta.it/index.php/it/even
 ti-footer/Eventi/2770-conversazione-in-inglese-pingu-s-english
DTSTART:20240311T173000Z
DTEND:20240311T183000Z
LOCATION:Sala Emeroteca (Corso Garibaldi 88\, 46100 Mantova)
SUMMARY:Conversazione in inglese_ Pingu’s English
URL:https://www.bibliotecabaratta.it/index.php/it/eventi-footer/Eventi/2770
 -conversazione-in-inglese-pingu-s-english
END:VEVENT
END:VCALENDAR
