BEGIN:VCALENDAR
VERSION:2.0
PRODID:-//https://www.bibliotecabaratta.it///NONSGML kigkonsult.se iCalcreator 2.10.15//
METHOD:PUBLISH
BEGIN:VEVENT
UID:20260419T155957CEST-0309wtS1dV@https://www.bibliotecabaratta.it/
DTSTAMP:20260419T135957Z
DESCRIPTION:Prosegue il nuovo ciclo di incontri “Al Baratta si legge”\, la 
 rassegna domenicale di suggerimenti di lettura curata da Simonetta Bitasi\
 , in collaborazione con le bibliotecarie della Biblioteca “Gino Baratta”.
 \nIl terzo appuntamento si terrà domenica 14 dicembre 2025 alle ore 11.00 
 e sarà interamente dedicato novità di letteratura arrivate in biblioteca.
 \nLocandina dell'evento:&nbsp\;&nbsp\;&nbsp\;imageAl baratta si legge: spe
 ciale novità narrativa adulti_14.12.2025&nbsp\;(1.62 MB)\n&nbsp\;\nL’incon
 tro\, a ingresso libero e gratuito\, si svolgerà presso la Biblioteca Gino
  Baratta\, Corso Garibaldi 88\, Mantova.\nPer informazioni: 0376 352711 –&
 nbsp\;barattapiu@comune.mantova.it https://www.bibliotecabaratta.it/index.
 php/it/eventi-footer/Eventi/3277-al-baratta-si-legge-con-simonetta-bitasi
DTSTART:20251214T110000Z
DTEND:20251214T123000Z
LOCATION:Sala Emeroteca (Corso Garibaldi 88\, 46100 Mantova)
SUMMARY:Al Baratta si legge_con Simonetta Bitasi
URL:https://www.bibliotecabaratta.it/index.php/it/eventi-footer/Eventi/3277
 -al-baratta-si-legge-con-simonetta-bitasi
END:VEVENT
END:VCALENDAR
