BEGIN:VCALENDAR
VERSION:2.0
PRODID:-//https://www.bibliotecabaratta.it///NONSGML kigkonsult.se iCalcreator 2.10.15//
METHOD:PUBLISH
BEGIN:VEVENT
UID:20260419T173031CEST-3812Het7uo@https://www.bibliotecabaratta.it/
DTSTAMP:20260419T153031Z
DESCRIPTION:Incontro mensile del Gruppo di Lettura Liberi di Leggere a cura
  di Silvia Andreoli.\nTema dell'incontro:&nbsp\;Il buio\nLibri del mese:\n
 - Pam Smy\, Thornhill\n- Hannah Arnesen\, Stardust. Polvere di stelle\n- O
 lga Tokarczuk\, L'anima smarrita. Edizione illustrata https://www.bibliote
 cabaratta.it/index.php/it/eventi-footer/Eventi/3282-gdl-liberi-di-leggere-
 il-buio
DTSTART:20260516T180000Z
DTEND:20260516T194500Z
LOCATION:Sala Emeroteca (Corso Garibaldi 88\, 46100 Mantova)
SUMMARY:GDL Liberi di Leggere_Il buio
URL:https://www.bibliotecabaratta.it/index.php/it/eventi-footer/Eventi/3282
 -gdl-liberi-di-leggere-il-buio
END:VEVENT
END:VCALENDAR
