BEGIN:VCALENDAR
VERSION:2.0
PRODID:-//https://www.bibliotecabaratta.it///NONSGML kigkonsult.se iCalcreator 2.10.15//
METHOD:PUBLISH
BEGIN:VEVENT
UID:20260419T141406CEST-1348F3v4ve@https://www.bibliotecabaratta.it/
DTSTAMP:20260419T121406Z
DESCRIPTION:Tanti giochi in scatola per tutte le età!\nLudoteca specifica c
 on giochi in scatola diversi e poco conosciuti alla cittadinanza\, aperto 
 a chiunque sia interessato a giocare. I volontari dell’associazione sono d
 isponibili a spiegare e far provare i giochi agli avventori.\n&nbsp\;\nIng
 resso libero e gratuito senza prenotazione.&nbsp\;\nInformazioni:&nbsp\;in
 fo@amiciludici.it&nbsp\;/ barattapiu@comune.mantova.it&nbsp\;\n&nbsp\; htt
 ps://www.bibliotecabaratta.it/index.php/it/eventi-footer/Eventi/1844-al-ba
 ratta-si-gioca
DTSTART:20220925T100000Z
DTEND:20220925T123000Z
LOCATION:Giardino della Biblioteca (Corso Giuseppe Garibaldi\, 88\, 46100 M
 antova (MN) )
SUMMARY:Al Baratta si gioca!
URL:https://www.bibliotecabaratta.it/index.php/it/eventi-footer/Eventi/1844
 -al-baratta-si-gioca
END:VEVENT
BEGIN:VEVENT
UID:20260419T141406CEST-135428VCZG@https://www.bibliotecabaratta.it/
DTSTAMP:20260419T121406Z
DESCRIPTION:Appuntamento settimanale ogni domenica mattina dalle 10:00 alle
  12:30 con tanti giochi in scatola per tutte le età in compagnia dei volon
 tari di Associazione Amici Ludici.\nAccesso libero e gratuito. https://www
 .bibliotecabaratta.it/index.php/it/eventi-footer/Eventi/2242-al-baratta-si
 -gioca-con-ass-amici-ludici
DTSTART:20230507T100000Z
DTEND:20230507T123000Z
LOCATION:Sala Lettura (Corso Garibaldi 88 Mantova)
SUMMARY:Al Baratta si gioca! con Ass. Amici Ludici
URL:https://www.bibliotecabaratta.it/index.php/it/eventi-footer/Eventi/2242
 -al-baratta-si-gioca-con-ass-amici-ludici
END:VEVENT
BEGIN:VEVENT
UID:20260419T141406CEST-1358JVeLTP@https://www.bibliotecabaratta.it/
DTSTAMP:20260419T121406Z
DESCRIPTION:Secondo modulo dei laboratori espressivi con tecniche di artete
 rapia rivolto a bambine e bambini della scuola primaria a cura di Erica Ne
 grelli.\nLocandina evento:&nbsp\; ARTETERAPIA BARATTA 2023\n&nbsp\;\nIscri
 zione obbligatoria a barattapiu@comune.mantova.it&nbsp\; https://www.bibli
 otecabaratta.it/index.php/it/eventi-footer/Eventi/2356-arteterapia-con-eri
 ca-negrelli-secondo-modulo-la-biblioteca-che-vorrei-laboratorio-per-bambin
 i-e-6-10-anni
DTSTART:20230605T173000Z
DTEND:20230605T190000Z
LOCATION:Sala 'Peppino Impastato' (Corso Garibaldi 88 Mantova)
SUMMARY:Arteterapia con Erica Negrelli - Secondo modulo 'La biblioteca che 
 vorrei' - laboratorio per bambini/e 6-10 anni
URL:https://www.bibliotecabaratta.it/index.php/it/eventi-footer/Eventi/2356
 -arteterapia-con-erica-negrelli-secondo-modulo-la-biblioteca-che-vorrei-la
 boratorio-per-bambini-e-6-10-anni
END:VEVENT
BEGIN:VEVENT
UID:20260419T141406CEST-1364nUvnN3@https://www.bibliotecabaratta.it/
DTSTAMP:20260419T121406Z
DESCRIPTION:Conversazione in lingua inglese per ragazze/i dagli 11 ai 14 an
 ni in collaborazione con Pingu’s English.\nIscrizione obbligatoria a barat
 tapiu@comune.mantova.it https://www.bibliotecabaratta.it/index.php/it/even
 ti-footer/Eventi/2770-conversazione-in-inglese-pingu-s-english
DTSTART:20240311T173000Z
DTEND:20240311T183000Z
LOCATION:Sala Emeroteca (Corso Garibaldi 88\, 46100 Mantova)
SUMMARY:Conversazione in inglese_ Pingu’s English
URL:https://www.bibliotecabaratta.it/index.php/it/eventi-footer/Eventi/2770
 -conversazione-in-inglese-pingu-s-english
END:VEVENT
BEGIN:VEVENT
UID:20260419T141406CEST-1368kVC9TG@https://www.bibliotecabaratta.it/
DTSTAMP:20260419T121406Z
DESCRIPTION:Secondo di due incontri in ricordo della figura di Franco Rotel
 li in concomitanza con la mostra&nbsp\;fotografica sul manicomio di Leros\
 , presso la Casa del Rigoletto. L'incontro\, dal titolo L'eredità di Frnac
 o Rotelli e la salute mentale oggi\, con Giovanni Rossi e Stefano Cecconi\
 , è un ricordo della figura del medico psichiatra Franco Rotelli (1942-202
 3) a un anno dalla sua morte.\n https://www.bibliotecabaratta.it/index.php
 /it/eventi-footer/Eventi/2780-a-mantova-in-ricordo-di-franco-rotelli
DTSTART:20240302T100000Z
DTEND:20240302T113000Z
LOCATION:Sala 'Peppino Impastato' (Corso Garibaldi 88 Mantova)
SUMMARY:A Mantova in ricordo di Franco Rotelli
URL:https://www.bibliotecabaratta.it/index.php/it/eventi-footer/Eventi/2780
 -a-mantova-in-ricordo-di-franco-rotelli
END:VEVENT
BEGIN:VEVENT
UID:20260419T141406CEST-1372SwztxA@https://www.bibliotecabaratta.it/
DTSTAMP:20260419T121406Z
DESCRIPTION:Laboratorio creativo per bambine/i dai 3 ai 7 anni dal titolo '
 ITALIA: LIBERI TUTTI!'\nIscrizione obbligatoria a barattapiu@comune.mantov
 a.it https://www.bibliotecabaratta.it/index.php/it/eventi-footer/Eventi/28
 17-arte-tra-le-dita-laboratorio-creativo-per-bambini-e-3-7-anni
DTSTART:20240417T163000Z
DTEND:20240417T183000Z
LOCATION:Sala 'Peppino Impastato' (Corso Garibaldi 88 Mantova)
SUMMARY:ARTE TRA LE DITA_Laboratorio creativo per bambini/e 3-7 anni
URL:https://www.bibliotecabaratta.it/index.php/it/eventi-footer/Eventi/2817
 -arte-tra-le-dita-laboratorio-creativo-per-bambini-e-3-7-anni
END:VEVENT
BEGIN:VEVENT
UID:20260419T141406CEST-1376kBHvHV@https://www.bibliotecabaratta.it/
DTSTAMP:20260419T121406Z
DESCRIPTION:Laboratorio creativo per bambine/i dai 4 ai 7 anni dal titolo '
 Il colore del tuo bacio' speciale festa dei nonni\nIscrizione obbligatoria
  a barattapiu@comune.mantova.it https://www.bibliotecabaratta.it/index.php
 /it/eventi-footer/Eventi/2914-arte-tra-le-dita-laboratorio-creativo-per-ba
 mbini-e-4-7-anni
DTSTART:20240930T161500Z
DTEND:20240930T180000Z
LOCATION:Sala 'Peppino Impastato' (Corso Garibaldi 88 Mantova)
SUMMARY: ARTE TRA LE DITA_Laboratorio creativo per bambini/e 4-7 anni
URL:https://www.bibliotecabaratta.it/index.php/it/eventi-footer/Eventi/2914
 -arte-tra-le-dita-laboratorio-creativo-per-bambini-e-4-7-anni
END:VEVENT
BEGIN:VEVENT
UID:20260419T141406CEST-1379iNU9BB@https://www.bibliotecabaratta.it/
DTSTAMP:20260419T121406Z
DESCRIPTION:Tanti giochi in scatola per tutte le età a cura di Associazione
  Amici Ludici. https://www.bibliotecabaratta.it/index.php/it/eventi-footer
 /Eventi/2931-al-baratta-si-gioca-con-ass-amici-ludici
DTSTART:20241006T100000Z
DTEND:20241006T123000Z
LOCATION:Sala Lettura (Corso Garibaldi 88 Mantova)
SUMMARY:Al Baratta si gioca! con Ass. Amici Ludici
URL:https://www.bibliotecabaratta.it/index.php/it/eventi-footer/Eventi/2931
 -al-baratta-si-gioca-con-ass-amici-ludici
END:VEVENT
BEGIN:VEVENT
UID:20260419T141406CEST-1383oWX0v1@https://www.bibliotecabaratta.it/
DTSTAMP:20260419T121406Z
DESCRIPTION:Tanti giochi in scatola per tutte le età a cura di Associazione
  Amici Ludici. https://www.bibliotecabaratta.it/index.php/it/eventi-footer
 /Eventi/2935-al-baratta-si-gioca-con-ass-amici-ludici
DTSTART:20250216T100000Z
DTEND:20250216T123000Z
LOCATION:Sala delle Colonne 'Peppino Impastato' (Corso Giuseppe Garibaldi\,
  88\, 46100 Mantova (MN) )
SUMMARY:Al Baratta si gioca! con Ass. Amici Ludici
URL:https://www.bibliotecabaratta.it/index.php/it/eventi-footer/Eventi/2935
 -al-baratta-si-gioca-con-ass-amici-ludici
END:VEVENT
BEGIN:VEVENT
UID:20260419T141406CEST-1386gSffP7@https://www.bibliotecabaratta.it/
DTSTAMP:20260419T121406Z
DESCRIPTION:Prosegue il nuovo ciclo di incontri “Al Baratta si legge”\, la 
 rassegna domenicale di suggerimenti di lettura curata da Simonetta Bitasi\
 , in collaborazione con le bibliotecarie della Biblioteca “Gino Baratta”.
 \nIl terzo appuntamento si terrà domenica 14 dicembre 2025 alle ore 11.00 
 e sarà interamente dedicato novità di letteratura arrivate in biblioteca.
 \nLocandina dell'evento:&nbsp\;&nbsp\;&nbsp\;imageAl baratta si legge: spe
 ciale novità narrativa adulti_14.12.2025&nbsp\;(1.62 MB)\n&nbsp\;\nL’incon
 tro\, a ingresso libero e gratuito\, si svolgerà presso la Biblioteca Gino
  Baratta\, Corso Garibaldi 88\, Mantova.\nPer informazioni: 0376 352711 –&
 nbsp\;barattapiu@comune.mantova.it https://www.bibliotecabaratta.it/index.
 php/it/eventi-footer/Eventi/3277-al-baratta-si-legge-con-simonetta-bitasi
DTSTART:20251214T110000Z
DTEND:20251214T123000Z
LOCATION:Sala Emeroteca (Corso Garibaldi 88\, 46100 Mantova)
SUMMARY:Al Baratta si legge_con Simonetta Bitasi
URL:https://www.bibliotecabaratta.it/index.php/it/eventi-footer/Eventi/3277
 -al-baratta-si-legge-con-simonetta-bitasi
END:VEVENT
END:VCALENDAR
